BEGIN:VCALENDAR
VERSION:2.0
PRODID:-//Международный центр гуманной  педагогики - ECPv4.8.2//NONSGML v1.0//EN
CALSCALE:GREGORIAN
METHOD:PUBLISH
X-WR-CALNAME:Международный центр гуманной  педагогики
X-ORIGINAL-URL:http://ichp.org.ru
X-WR-CALDESC:Events for Международный центр гуманной  педагогики
BEGIN:VEVENT
DTSTART;VALUE=DATE:20200205
DTEND;VALUE=DATE:20200206
DTSTAMP:20260421T020411
CREATED:20200117T210900Z
LAST-MODIFIED:20200117T210900Z
UID:3002-1580860800-1580947199@ichp.org.ru
SUMMARY:Авторский семинар Пааты Амонашвили для родителей.
DESCRIPTION:
URL:http://ichp.org.ru/event/%d0%b0%d0%b2%d1%82%d0%be%d1%80%d1%81%d0%ba%d0%b8%d0%b9-%d1%81%d0%b5%d0%bc%d0%b8%d0%bd%d0%b0%d1%80-%d0%bf%d0%b0%d0%b0%d1%82%d1%8b-%d0%b0%d0%bc%d0%be%d0%bd%d0%b0%d1%88%d0%b2%d0%b8%d0%bb%d0%b8-%d0%b4-11/
LOCATION:Омск\, Россия
ORGANIZER;CN="%D0%A7%D0%B8%D0%B1%D0%B8%D1%80%D0%BA%D0%B8%D0%BD%D0%B0%20%D0%9E%D0%BA%D1%81%D0%B0%D0%BD%D0%B0":MAILTO:auto-st@mail.ru
END:VEVENT
END:VCALENDAR