BEGIN:VCALENDAR
VERSION:2.0
PRODID:-//Международный центр гуманной  педагогики - ECPv4.8.2//NONSGML v1.0//EN
CALSCALE:GREGORIAN
METHOD:PUBLISH
X-WR-CALNAME:Международный центр гуманной  педагогики
X-ORIGINAL-URL:http://ichp.org.ru
X-WR-CALDESC:Events for Международный центр гуманной  педагогики
BEGIN:VEVENT
DTSTART;VALUE=DATE:20200509
DTEND;VALUE=DATE:20200511
DTSTAMP:20260424T122948
CREATED:20200117T214140Z
LAST-MODIFIED:20200117T214140Z
UID:3069-1588982400-1589155199@ichp.org.ru
SUMMARY:Авторский семинар Пааты Амонашвили для родителей
DESCRIPTION:
URL:http://ichp.org.ru/event/%d0%b0%d0%b2%d1%82%d0%be%d1%80%d1%81%d0%ba%d0%b8%d0%b9-%d1%81%d0%b5%d0%bc%d0%b8%d0%bd%d0%b0%d1%80-%d0%bf%d0%b0%d0%b0%d1%82%d1%8b-%d0%b0%d0%bc%d0%be%d0%bd%d0%b0%d1%88%d0%b2%d0%b8%d0%bb%d0%b8-%d0%b4-17/
LOCATION:Вена\, Австрия
ORGANIZER;CN="%D0%9A%D1%80%D0%B0%D1%81%D0%BD%D0%BE%D1%81%D0%B5%D0%BB%D1%8C%D1%81%D0%BA%D0%B0%D1%8F%20%D0%98%D0%BD%D0%BD%D0%B0":MAILTO:innamusica@gmail.com
END:VEVENT
END:VCALENDAR