BEGIN:VCALENDAR
VERSION:2.0
PRODID:-//Международный центр гуманной  педагогики - ECPv4.8.2//NONSGML v1.0//EN
CALSCALE:GREGORIAN
METHOD:PUBLISH
X-WR-CALNAME:Международный центр гуманной  педагогики
X-ORIGINAL-URL:http://ichp.org.ru
X-WR-CALDESC:Events for Международный центр гуманной  педагогики
BEGIN:VEVENT
DTSTART;VALUE=DATE:20200514
DTEND;VALUE=DATE:20200516
DTSTAMP:20260424T135534
CREATED:20200117T214317Z
LAST-MODIFIED:20200117T214317Z
UID:3073-1589414400-1589587199@ichp.org.ru
SUMMARY:Авторский семинар Шалвы Амонашвили для родителей
DESCRIPTION:
URL:http://ichp.org.ru/event/%d0%b0%d0%b2%d1%82%d0%be%d1%80%d1%81%d0%ba%d0%b8%d0%b9-%d1%81%d0%b5%d0%bc%d0%b8%d0%bd%d0%b0%d1%80-%d1%88%d0%b0%d0%bb%d0%b2%d1%8b-%d0%b0%d0%bc%d0%be%d0%bd%d0%b0%d1%88%d0%b2%d0%b8%d0%bb%d0%b8-%d0%b4-13/
LOCATION:Заокский\, Россия
ORGANIZER;CN="%D0%9F%D0%B0%D1%88%D0%B8%D0%BD%D1%8F%D0%BD%20%D0%9D%D0%B5%D0%BB%D0%BB%D0%B8":MAILTO:nelly-asd@mail.ru
END:VEVENT
END:VCALENDAR