BEGIN:VCALENDAR
VERSION:2.0
PRODID:-//Международный центр гуманной  педагогики - ECPv4.8.2//NONSGML v1.0//EN
CALSCALE:GREGORIAN
METHOD:PUBLISH
X-WR-CALNAME:Международный центр гуманной  педагогики
X-ORIGINAL-URL:http://ichp.org.ru
X-WR-CALDESC:Events for Международный центр гуманной  педагогики
BEGIN:VEVENT
DTSTART;VALUE=DATE:20191123
DTEND;VALUE=DATE:20191125
DTSTAMP:20260421T153856
CREATED:20191001T204851Z
LAST-MODIFIED:20191001T205840Z
UID:2452-1574467200-1574639999@ichp.org.ru
SUMMARY:Авторский семинар Шалвы Амонашвили для родителей
DESCRIPTION:
URL:http://ichp.org.ru/event/%d0%b0%d0%b2%d1%82%d0%be%d1%80%d1%81%d0%ba%d0%b8%d0%b9-%d1%81%d0%b5%d0%bc%d0%b8%d0%bd%d0%b0%d1%80-%d1%88%d0%b0%d0%bb%d0%b2%d1%8b-%d0%b0%d0%bc%d0%be%d0%bd%d0%b0%d1%88%d0%b2%d0%b8%d0%bb%d0%b8-%d0%b4-2/
LOCATION:Ульяновск\, Россия
ORGANIZER;CN="%D0%A5%D0%B8%D1%82%D1%80%D0%BE%D0%B2%20%D0%90%D0%BB%D0%B5%D0%BA%D1%81%D0%B5%D0%B9":MAILTO:mail@alexeyhitrov.ru
END:VEVENT
END:VCALENDAR