BEGIN:VCALENDAR
VERSION:2.0
PRODID:-//Международный центр гуманной  педагогики - ECPv4.8.2//NONSGML v1.0//EN
CALSCALE:GREGORIAN
METHOD:PUBLISH
X-WR-CALNAME:Международный центр гуманной  педагогики
X-ORIGINAL-URL:http://ichp.org.ru
X-WR-CALDESC:Events for Международный центр гуманной  педагогики
BEGIN:VEVENT
DTSTART;VALUE=DATE:20190920
DTEND;VALUE=DATE:20190921
DTSTAMP:20260421T201922
CREATED:20191001T202905Z
LAST-MODIFIED:20191001T202905Z
UID:2404-1568937600-1569023999@ichp.org.ru
SUMMARY:Авторский семинар Шалвы Амонашвили для родителей.
DESCRIPTION:
URL:http://ichp.org.ru/event/%d0%b0%d0%b2%d1%82%d0%be%d1%80%d1%81%d0%ba%d0%b8%d0%b9-%d1%81%d0%b5%d0%bc%d0%b8%d0%bd%d0%b0%d1%80-%d1%88%d0%b0%d0%bb%d0%b2%d1%8b-%d0%b0%d0%bc%d0%be%d0%bd%d0%b0%d1%88%d0%b2%d0%b8%d0%bb%d0%b8-%d0%b4/
LOCATION:Минск\, Белоруссия
ORGANIZER;CN="%D0%98%D1%81%D0%B0%D1%87%D0%B5%D0%BD%D0%BA%D0%BE%20%D0%95%D0%B2%D0%B3%D0%B5%D0%BD%D0%B8%D0%B9":MAILTO:kinobabo4ka@mail.ru
END:VEVENT
END:VCALENDAR