BEGIN:VCALENDAR
VERSION:2.0
PRODID:-//Международный центр гуманной  педагогики - ECPv4.8.2//NONSGML v1.0//EN
CALSCALE:GREGORIAN
METHOD:PUBLISH
X-WR-CALNAME:Международный центр гуманной  педагогики
X-ORIGINAL-URL:http://ichp.org.ru
X-WR-CALDESC:Events for Международный центр гуманной  педагогики
BEGIN:VEVENT
DTSTART;VALUE=DATE:20191011
DTEND;VALUE=DATE:20191014
DTSTAMP:20260421T122711
CREATED:20191001T203517Z
LAST-MODIFIED:20191001T211632Z
UID:2418-1570752000-1571011199@ichp.org.ru
SUMMARY:Авторский семинар Шалвы и Пааты Амонашвили для учителей и родителей (семинар пройдет на грузинском языке)
DESCRIPTION:
URL:http://ichp.org.ru/event/%d0%b0%d0%b2%d1%82%d0%be%d1%80%d1%81%d0%ba%d0%b8%d0%b9-%d1%81%d0%b5%d0%bc%d0%b8%d0%bd%d0%b0%d1%80-%d1%88%d0%b0%d0%bb%d0%b2%d1%8b-%d0%b8-%d0%bf%d0%b0%d0%b0%d1%82%d1%8b-%d0%b0%d0%bc%d0%be%d0%bd%d0%b0/
LOCATION:Бушети\, Грузия
ORGANIZER;CN="%D0%90%D0%BA%D0%B0%D0%B4%D0%B5%D0%BC%D0%B8%D1%8F%20%D0%90%D0%BC%D0%BE%D0%BD%D0%B0%D1%88%D0%B2%D0%B8%D0%BB%D0%B8%20%D0%B4%D0%BB%D1%8F%20%D1%80%D0%BE%D0%B4%D0%B8%D1%82%D0%B5%D0%BB%D0%B5%D0%B9":MAILTO:amonashvili.nino@gmail.com
END:VEVENT
END:VCALENDAR