BEGIN:VCALENDAR
VERSION:2.0
PRODID:-//Международный центр гуманной  педагогики - ECPv4.8.2//NONSGML v1.0//EN
CALSCALE:GREGORIAN
METHOD:PUBLISH
X-WR-CALNAME:Международный центр гуманной  педагогики
X-ORIGINAL-URL:http://ichp.org.ru
X-WR-CALDESC:Events for Международный центр гуманной  педагогики
BEGIN:VEVENT
DTSTART;TZID=UTC+3:20190706T080000
DTEND;TZID=UTC+3:20190715T170000
DTSTAMP:20260421T223434
CREATED:20190513T214013Z
LAST-MODIFIED:20190513T214030Z
UID:2357-1562400000-1563210000@ichp.org.ru
SUMMARY:Бизнес и Гуманная Педагогика. 6-15 июля 2019 г.
DESCRIPTION:6 июля -заезд\n7 июля- 14 июля работа группы\n15 июля – отъезд \nПриглашенные Спикеры про Гуманные Подходы ведения бизнеса \nПодробнее о курсе \n
URL:http://ichp.org.ru/event/%d0%b1%d0%b8%d0%b7%d0%bd%d0%b5%d1%81-%d0%b8-%d0%b3%d1%83%d0%bc%d0%b0%d0%bd%d0%bd%d0%b0%d1%8f-%d0%bf%d0%b5%d0%b4%d0%b0%d0%b3%d0%be%d0%b3%d0%b8%d0%ba%d0%b0-6-15-%d0%b8%d1%8e%d0%bb%d1%8f-2019-%d0%b3/
LOCATION:Бушети\, Грузия
END:VEVENT
END:VCALENDAR