BEGIN:VCALENDAR
VERSION:2.0
PRODID:-//Международный центр гуманной  педагогики - ECPv4.8.2//NONSGML v1.0//EN
CALSCALE:GREGORIAN
METHOD:PUBLISH
X-WR-CALNAME:Международный центр гуманной  педагогики
X-ORIGINAL-URL:http://ichp.org.ru
X-WR-CALDESC:Events for Международный центр гуманной  педагогики
BEGIN:VEVENT
DTSTART;VALUE=DATE:20191026
DTEND;VALUE=DATE:20191028
DTSTAMP:20260421T135913
CREATED:20191001T203740Z
LAST-MODIFIED:20191001T203740Z
UID:2424-1572048000-1572220799@ichp.org.ru
SUMMARY:Всеукраинские Чтения гуманной педагогики
DESCRIPTION:
URL:http://ichp.org.ru/event/%d0%b2%d1%81%d0%b5%d1%83%d0%ba%d1%80%d0%b0%d0%b8%d0%bd%d1%81%d0%ba%d0%b8%d0%b5-%d1%87%d1%82%d0%b5%d0%bd%d0%b8%d1%8f-%d0%b3%d1%83%d0%bc%d0%b0%d0%bd%d0%bd%d0%be%d0%b9-%d0%bf%d0%b5%d0%b4%d0%b0%d0%b3/
LOCATION:Киев\, Украина
ORGANIZER;CN="%D0%92%D1%81%D0%B5%D1%83%D0%BA%D1%80%D0%B0%D0%B8%D0%BD%D1%81%D0%BA%D0%B8%D0%B9%20%D0%A6%D0%B5%D0%BD%D1%82%D1%80%20%D0%B3%D1%83%D0%BC%D0%B0%D0%BD%D0%BD%D0%BE%D0%B9%20%D0%BF%D0%B5%D0%B4%D0%B0%D0%B3%D0%BE%D0%B3%D0%B8%D0%BA%D0%B8":MAILTO:ermetov@gumanpedagog.org.ua
END:VEVENT
END:VCALENDAR