BEGIN:VCALENDAR
VERSION:2.0
PRODID:-//Международный центр гуманной  педагогики - ECPv4.8.2//NONSGML v1.0//EN
CALSCALE:GREGORIAN
METHOD:PUBLISH
X-WR-CALNAME:Международный центр гуманной  педагогики
X-ORIGINAL-URL:http://ichp.org.ru
X-WR-CALDESC:Events for Международный центр гуманной  педагогики
BEGIN:VEVENT
DTSTART;VALUE=DATE:20200212
DTEND;VALUE=DATE:20200217
DTSTAMP:20260421T072955
CREATED:20200117T211444Z
LAST-MODIFIED:20200117T211444Z
UID:3013-1581465600-1581897599@ichp.org.ru
SUMMARY:Высшая школа учеников Амонашвили на основах гуманной педагогики (3й набор\, встреча вторая).
DESCRIPTION:
URL:http://ichp.org.ru/event/%d0%b2%d1%8b%d1%81%d1%88%d0%b0%d1%8f-%d1%88%d0%ba%d0%be%d0%bb%d0%b0-%d1%83%d1%87%d0%b5%d0%bd%d0%b8%d0%ba%d0%be%d0%b2-%d0%b0%d0%bc%d0%be%d0%bd%d0%b0%d1%88%d0%b2%d0%b8%d0%bb%d0%b8-%d0%bd%d0%b0-%d0%be-2/
LOCATION:Москва\, Россия
END:VEVENT
END:VCALENDAR