BEGIN:VCALENDAR
VERSION:2.0
PRODID:-//Международный центр гуманной  педагогики - ECPv4.8.2//NONSGML v1.0//EN
CALSCALE:GREGORIAN
METHOD:PUBLISH
X-WR-CALNAME:Международный центр гуманной  педагогики
X-ORIGINAL-URL:http://ichp.org.ru
X-WR-CALDESC:Events for Международный центр гуманной  педагогики
BEGIN:VEVENT
DTSTART;TZID=UTC+3:20190213T100000
DTEND;TZID=UTC+3:20190218T180000
DTSTAMP:20260422T072445
CREATED:20190104T214520Z
LAST-MODIFIED:20190209T164051Z
UID:348-1550052000-1550512800@ichp.org.ru
SUMMARY:Высшая школа учеников Амонашвили (13-18 февраля 2019\, г. Москва)
DESCRIPTION:Высшая школа учеников Амонашвили  —  годовая образовательная программа для тех\, кто прошел Дистанционный курс гуманной педагогики\, обучался на очных семинарах Амонашвили\, участвовал в летних курсах в Бушети.   \nПрограмма курса предусматривает освоение философии жизни и духовного мира человека\, психологии согласия\, ценностей классической педагогики\, теорию и практику гуманного подхода и общения\, воспитания и обучения детей в семье и школе\, опыт распространения идей гуманной педагогики через разные виды деятельности. \nПо окончании Высшей школы выдается Диплом ученика Амонашвили. \nКурсы проходят в три этапа: \n17-21 октября 2018 года\, 5 дней\, Москва \n13-18 февраля 2019 года\, 5 дней\, Москва \nЛето 2019 года\, Бушети\, Грузия\, 9 дней (конкретные даты будут согласованы с участниками курсов). \nСтоимость первых двух этапов: 200$ (каждый)\, о стоимости третьего этапа будет сообщено дополнительно. \nДля того\, чтобы подать заявку на зачисление\, необходимо заполнить небольшую анкету: \nФамилия имя отчество \nДата рождения \nГород \nМесто работы и должность \nОпыт работы в гуманной педагогике \nКонтакты (телефон\, адрес электронной почты) \nПо всем вопросам обращайтесь к куратору Высшей школы учеников Амонашвили — Неклюдовой Ольге Михайловне: \nneklyudowa.olga@yandex.ru+7 919 0153035 \n
URL:http://ichp.org.ru/event/%d0%b2%d1%8b%d1%81%d1%88%d0%b0%d1%8f-%d1%88%d0%ba%d0%be%d0%bb%d0%b0-%d1%83%d1%87%d0%b5%d0%bd%d0%b8%d0%ba%d0%be%d0%b2-%d0%b0%d0%bc%d0%be%d0%bd%d0%b0%d1%88%d0%b2%d0%b8%d0%bb%d0%b8-%d0%bd%d0%b0-%d0%be/
LOCATION:Москва\, Плотников пер\, 12 (м. Смоленская\, 5 мин пешком).  Здание гостиницы “Арбат”\, Kristina Art Gallery.
END:VEVENT
END:VCALENDAR