BEGIN:VCALENDAR
VERSION:2.0
PRODID:-//Международный центр гуманной  педагогики - ECPv4.8.2//NONSGML v1.0//EN
CALSCALE:GREGORIAN
METHOD:PUBLISH
X-WR-CALNAME:Международный центр гуманной  педагогики
X-ORIGINAL-URL:http://ichp.org.ru
X-WR-CALDESC:Events for Международный центр гуманной  педагогики
BEGIN:VEVENT
DTSTART;VALUE=DATE:20191102
DTEND;VALUE=DATE:20191105
DTSTAMP:20260421T184940
CREATED:20191001T193042Z
LAST-MODIFIED:20191001T204146Z
UID:2398-1572652800-1572911999@ichp.org.ru
SUMMARY:Международный фестиваль гуманной педагогики «Зёрна»
DESCRIPTION: \n
URL:http://ichp.org.ru/event/%d0%bc%d0%b5%d0%b6%d0%b4%d1%83%d0%bd%d0%b0%d1%80%d0%be%d0%b4%d0%bd%d1%8b%d0%b9-%d1%84%d0%b5%d1%81%d1%82%d0%b8%d0%b2%d0%b0%d0%bb%d1%8c-%d0%b3%d1%83%d0%bc%d0%b0%d0%bd%d0%bd%d0%be%d0%b9-%d0%bf%d0%b5/
LOCATION:г. МОСКВА\, KORSTON CLUB HOTEL
END:VEVENT
END:VCALENDAR