BEGIN:VCALENDAR
VERSION:2.0
PRODID:-//Международный центр гуманной  педагогики - ECPv4.8.2//NONSGML v1.0//EN
CALSCALE:GREGORIAN
METHOD:PUBLISH
X-WR-CALNAME:Международный центр гуманной  педагогики
X-ORIGINAL-URL:http://ichp.org.ru
X-WR-CALDESC:Events for Международный центр гуманной  педагогики
BEGIN:VEVENT
DTSTART;TZID=UTC+3:20191122T100000
DTEND;TZID=UTC+3:20191122T160000
DTSTAMP:20260421T135617
CREATED:20191125T011047Z
LAST-MODIFIED:20191125T011047Z
UID:2616-1574416800-1574438400@ichp.org.ru
SUMMARY:Одиннадцатые Челябинские региональные педагогические чтения  по гуманной педагогике «Воля есть самая драгоценная победа»
DESCRIPTION:
URL:http://ichp.org.ru/event/%d0%be%d0%b4%d0%b8%d0%bd%d0%bd%d0%b0%d0%b4%d1%86%d0%b0%d1%82%d1%8b%d0%b5-%d1%87%d0%b5%d0%bb%d1%8f%d0%b1%d0%b8%d0%bd%d1%81%d0%ba%d0%b8%d0%b5-%d1%80%d0%b5%d0%b3%d0%b8%d0%be%d0%bd%d0%b0%d0%bb%d1%8c%d0%bd/
LOCATION:Челябинская область\, Верхнеуральский район с.Степное\, Верхнеуральского района Челябинской области\, с. Степное\, ул. Мира\, 38
ORGANIZER;CN="%D0%A7%D0%B5%D0%BB%D1%8F%D0%B1%D0%B8%D0%BD%D1%81%D0%BA%D0%BE%D0%B5%20%D1%80%D0%B5%D0%B3%D0%B8%D0%BE%D0%BD%D0%B0%D0%BB%D1%8C%D0%BD%D0%BE%D0%B5%20%D0%BE%D1%82%D0%B4%D0%B5%D0%BB%D0%B5%D0%BD%D0%B8%D0%B5%20%D0%9E%D0%B1%D1%89%D0%B5%D1%80%D0%BE%D1%81%D1%81%D0%B8%D0%B9%D1%81%D0%BA%D0%BE%D0%B3%D0%BE%20%C2%AB%D0%A6%D0%B5%D0%BD%D1%82%D1%80%D0%B0%20%D0%B3%D1%83%D0%BC%D0%B0%D0%BD%D0%BD%D0%BE%D0%B9%20%D0%BF%D0%B5%D0%B4%D0%B0%D0%B3%D0%BE%D0%B3%D0%B8%D0%BA%D0%B8%C2%BB":MAILTO:mcgp_74@mail.ru
END:VEVENT
END:VCALENDAR