BEGIN:VCALENDAR
VERSION:2.0
PRODID:-//Международный центр гуманной  педагогики - ECPv4.8.2//NONSGML v1.0//EN
CALSCALE:GREGORIAN
METHOD:PUBLISH
X-WR-CALNAME:Международный центр гуманной  педагогики
X-ORIGINAL-URL:http://ichp.org.ru
X-WR-CALDESC:Events for Международный центр гуманной  педагогики
BEGIN:VEVENT
DTSTART;VALUE=DATE:20191014
DTEND;VALUE=DATE:20191021
DTSTAMP:20260421T105346
CREATED:20191003T083805Z
LAST-MODIFIED:20191003T083805Z
UID:2500-1571011200-1571615999@ichp.org.ru
SUMMARY:онлайн-интенсив курс "7 ступеней ораторского мастерства"
DESCRIPTION:
URL:http://ichp.org.ru/event/%d0%be%d0%bd%d0%bb%d0%b0%d0%b9%d0%bd-%d0%b8%d0%bd%d1%82%d0%b5%d0%bd%d1%81%d0%b8%d0%b2-%d0%ba%d1%83%d1%80%d1%81-7-%d1%81%d1%82%d1%83%d0%bf%d0%b5%d0%bd%d0%b5%d0%b9-%d0%be%d1%80%d0%b0%d1%82%d0%be%d1%80/
ORGANIZER;CN="%D0%92%D1%8B%D1%81%D1%88%D0%B0%D1%8F%20%D1%88%D0%BA%D0%BE%D0%BB%D0%B0%20%D0%BA%D0%BE%D0%BC%D0%BC%D1%83%D0%BD%D0%B8%D0%BA%D0%B0%D1%86%D0%B8%D0%B8%20LOGOS%20ART":MAILTO:logosart.ed@gmail.com
END:VEVENT
END:VCALENDAR