BEGIN:VCALENDAR
VERSION:2.0
PRODID:-//Международный центр гуманной  педагогики - ECPv4.8.2//NONSGML v1.0//EN
CALSCALE:GREGORIAN
METHOD:PUBLISH
X-WR-CALNAME:Международный центр гуманной  педагогики
X-ORIGINAL-URL:http://ichp.org.ru
X-WR-CALDESC:Events for Международный центр гуманной  педагогики
BEGIN:VEVENT
DTSTART;VALUE=DATE:20191109
DTEND;VALUE=DATE:20191201
DTSTAMP:20260421T122725
CREATED:20191003T084017Z
LAST-MODIFIED:20191003T084017Z
UID:2503-1573257600-1575158399@ichp.org.ru
SUMMARY:онлайн-курс "Культура речи и общения"
DESCRIPTION:
URL:http://ichp.org.ru/event/%d0%be%d0%bd%d0%bb%d0%b0%d0%b9%d0%bd-%d0%ba%d1%83%d1%80%d1%81-%d0%ba%d1%83%d0%bb%d1%8c%d1%82%d1%83%d1%80%d0%b0-%d1%80%d0%b5%d1%87%d0%b8-%d0%b8-%d0%be%d0%b1%d1%89%d0%b5%d0%bd%d0%b8%d1%8f/
ORGANIZER;CN="%D0%92%D1%8B%D1%81%D1%88%D0%B0%D1%8F%20%D1%88%D0%BA%D0%BE%D0%BB%D0%B0%20%D0%BA%D0%BE%D0%BC%D0%BC%D1%83%D0%BD%D0%B8%D0%BA%D0%B0%D1%86%D0%B8%D0%B8%20LOGOS%20ART":MAILTO:logosart.ed@gmail.com
END:VEVENT
END:VCALENDAR