BEGIN:VCALENDAR
VERSION:2.0
PRODID:-//Международный центр гуманной  педагогики - ECPv4.8.2//NONSGML v1.0//EN
CALSCALE:GREGORIAN
METHOD:PUBLISH
X-WR-CALNAME:Международный центр гуманной  педагогики
X-ORIGINAL-URL:http://ichp.org.ru
X-WR-CALDESC:Events for Международный центр гуманной  педагогики
BEGIN:VEVENT
DTSTART;TZID=UTC+3:20190622T123000
DTEND;TZID=UTC+3:20190622T133000
DTSTAMP:20260421T204503
CREATED:20190513T214952Z
LAST-MODIFIED:20190519T214930Z
UID:2372-1561206600-1561210200@ichp.org.ru
SUMMARY:Практический онлайн курс Елены Шуванниковой курс "Культура речи". 22 июня 2019 г.
DESCRIPTION:\nhttp://ichp.org.ru/wp-content/uploads/2019/03/Видеоприглашение-Ш.А.-Амонашвили-_-ораторское-искусство-1.mp4\n22 июня\, 12:30-13:30 мск (суббота\, вебинар):\nтеория + практика + дом. задание \nТема 5: Голос и дикция:\nпозволяем себе звучать \nТема 6: Ораторское искусство:\nуверенно доносим свои идеи до любой аудитории \n
URL:http://ichp.org.ru/event/%d0%bf%d1%80%d0%b0%d0%ba%d1%82%d0%b8%d1%87%d0%b5%d1%81%d0%ba%d0%b8%d0%b9-%d0%be%d0%bd%d0%bb%d0%b0%d0%b9%d0%bd-%d0%ba%d1%83%d1%80%d1%81-%d0%b5%d0%bb%d0%b5%d0%bd%d1%8b-%d1%88%d1%83%d0%b2%d0%b0%d0%bd-3/
LOCATION:Москва
END:VEVENT
END:VCALENDAR