BEGIN:VCALENDAR
VERSION:2.0
PRODID:-//Международный центр гуманной  педагогики - ECPv4.8.2//NONSGML v1.0//EN
CALSCALE:GREGORIAN
METHOD:PUBLISH
X-WR-CALNAME:Международный центр гуманной  педагогики
X-ORIGINAL-URL:http://ichp.org.ru
X-WR-CALDESC:Events for Международный центр гуманной  педагогики
BEGIN:VEVENT
DTSTART;TZID=UTC+3:20190820T080000
DTEND;TZID=UTC+3:20190830T170000
DTSTAMP:20260421T223725
CREATED:20190513T214346Z
LAST-MODIFIED:20190513T214410Z
UID:2362-1566288000-1567184400@ichp.org.ru
SUMMARY:Семья и школа
DESCRIPTION:20 августа -заезд\n21 – 29 августа работа группы\n30 августа – отъезд\nЭту группу рекомендуем родителям и учителям\, которые уже углубились в гуманную\nпедагогику\, проходили авторские семинары\, обучаются на дистанционных курсах \n
URL:http://ichp.org.ru/event/%d1%81%d0%b5%d0%bc%d1%8c%d1%8f-%d0%b8-%d1%88%d0%ba%d0%be%d0%bb%d0%b0/
LOCATION:Бушети\, Грузия
END:VEVENT
END:VCALENDAR