BEGIN:VCALENDAR
VERSION:2.0
PRODID:-//Международный центр гуманной  педагогики - ECPv4.8.2//NONSGML v1.0//EN
CALSCALE:GREGORIAN
METHOD:PUBLISH
X-WR-CALNAME:Международный центр гуманной  педагогики
X-ORIGINAL-URL:http://ichp.org.ru
X-WR-CALDESC:Events for Международный центр гуманной  педагогики
BEGIN:VEVENT
DTSTART;TZID=UTC+3:20190725T080000
DTEND;TZID=UTC+3:20190804T170000
DTSTAMP:20260421T235712
CREATED:20190513T214236Z
LAST-MODIFIED:20190513T214236Z
UID:2360-1564041600-1564938000@ichp.org.ru
SUMMARY:С Мариной Таргаковой.  25 июля-4 августа 2019 г.
DESCRIPTION:25 июля -заезд \n26 июля- 3 августа работа группы\n4 августа – отъезд\n
URL:http://ichp.org.ru/event/%d1%81-%d0%bc%d0%b0%d1%80%d0%b8%d0%bd%d0%be%d0%b9-%d1%82%d0%b0%d1%80%d0%b3%d0%b0%d0%ba%d0%be%d0%b2%d0%be%d0%b9-25-%d0%b8%d1%8e%d0%bb%d1%8f-4-%d0%b0%d0%b2%d0%b3%d1%83%d1%81%d1%82%d0%b0-2019-%d0%b3/
LOCATION:Бушети\, Грузия
END:VEVENT
END:VCALENDAR