BEGIN:VCALENDAR
VERSION:2.0
PRODID:-//Международный центр гуманной  педагогики - ECPv4.8.2//NONSGML v1.0//EN
CALSCALE:GREGORIAN
METHOD:PUBLISH
X-WR-CALNAME:Международный центр гуманной  педагогики
X-ORIGINAL-URL:http://ichp.org.ru
X-WR-CALDESC:Events for Международный центр гуманной  педагогики
BEGIN:VEVENT
DTSTART;VALUE=DATE:20200425
DTEND;VALUE=DATE:20200427
DTSTAMP:20260422T035803
CREATED:20200117T213831Z
LAST-MODIFIED:20200117T213831Z
UID:3061-1587772800-1587945599@ichp.org.ru
SUMMARY:Фестиваль гуманной педагогики с участием Пааты Амонашвили
DESCRIPTION:
URL:http://ichp.org.ru/event/%d1%84%d0%b5%d1%81%d1%82%d0%b8%d0%b2%d0%b0%d0%bb%d1%8c-%d0%b3%d1%83%d0%bc%d0%b0%d0%bd%d0%bd%d0%be%d0%b9-%d0%bf%d0%b5%d0%b4%d0%b0%d0%b3%d0%be%d0%b3%d0%b8%d0%ba%d0%b8-%d1%81-%d1%83%d1%87%d0%b0%d1%81/
LOCATION:Пермь\, Россия
ORGANIZER;CN="%D0%9F%D0%B5%D1%80%D0%BC%D1%81%D0%BA%D0%B8%D0%B9%20%D1%86%D0%B5%D0%BD%D1%82%D1%80%20%D0%B3%D1%83%D0%BC%D0%B0%D0%BD%D0%BD%D0%BE%D0%B9%20%D0%BF%D0%B5%D0%B4%D0%B0%D0%B3%D0%BE%D0%B3%D0%B8%D0%BA%D0%B8":MAILTO:prostor-club@ya.ru
END:VEVENT
END:VCALENDAR