BEGIN:VCALENDAR
VERSION:2.0
PRODID:-//Международный центр гуманной  педагогики - ECPv4.8.2//NONSGML v1.0//EN
CALSCALE:GREGORIAN
METHOD:PUBLISH
X-WR-CALNAME:Международный центр гуманной  педагогики
X-ORIGINAL-URL:http://ichp.org.ru
X-WR-CALDESC:Events for Международный центр гуманной  педагогики
BEGIN:VEVENT
DTSTART;TZID=UTC+3:20190403T100000
DTEND;TZID=UTC+3:20190404T180000
DTSTAMP:20260422T072624
CREATED:20190211T174130Z
LAST-MODIFIED:20190311T223040Z
UID:1444-1554285600-1554400800@ichp.org.ru
SUMMARY:Форум гуманно-личностного воспитания «Зёрна» (3-4 апреля 2019\, Ташкент\, Узбекистан)
DESCRIPTION:Организатор Гулнора\n
URL:http://ichp.org.ru/event/%d1%84%d0%be%d1%80%d1%83%d0%bc-%d0%b3%d1%83%d0%bc%d0%b0%d0%bd%d0%bd%d0%be-%d0%bb%d0%b8%d1%87%d0%bd%d0%be%d1%81%d1%82%d0%bd%d0%be%d0%b3%d0%be-%d0%b2%d0%be%d1%81%d0%bf%d0%b8%d1%82%d0%b0%d0%bd%d0%b8/
END:VEVENT
END:VCALENDAR