BEGIN:VCALENDAR
VERSION:2.0
PRODID:-//Международный центр гуманной  педагогики - ECPv4.8.2//NONSGML v1.0//EN
CALSCALE:GREGORIAN
METHOD:PUBLISH
X-WR-CALNAME:Международный центр гуманной  педагогики
X-ORIGINAL-URL:http://ichp.org.ru
X-WR-CALDESC:Events for Международный центр гуманной  педагогики
BEGIN:VEVENT
DTSTART;VALUE=DATE:20190413
DTEND;VALUE=DATE:20190415
DTSTAMP:20260422T072644
CREATED:20190317T200903Z
LAST-MODIFIED:20190317T204533Z
UID:2176-1555113600-1555286399@ichp.org.ru
SUMMARY:Интенсив-практикум "Ораторское искусство. 7.0." Елены Шуванниковой (13-14 апреля\, Москва\, 11.00-18.00 часов)
DESCRIPTION:\nhttp://ichp.org.ru/wp-content/uploads/2019/03/Видеоприглашение-Ш.А.-Амонашвили-_-ораторское-искусство-1.mp4\n  \nОткрытый двухдневный интенсив-практикум по ораторскому искусству. Формат: живая встреча\, группа до 20 человек. 25% теории\, 75% практики. \nТемы: \n📌 Три фактора успешного публичного выступления \n📌 Образ современного оратора \n📌 Эффективная самопрезентация \n📌 Алгоритм подготовки и структура публичного выступления \n📌 Невербальные средства коммуникации (поза\, жесты\, мимика) \n📌 Сильный голос и чистая речь \n📌 Взаимодействие с аудиторией \n📌 Преодоление страха публичных выступлений \nПодробнее \n
URL:http://ichp.org.ru/event/13-%d0%b0%d0%bf%d1%80%d0%b5%d0%bb%d1%8f-%d0%b8-14-%d0%b0%d0%bf%d1%80%d0%b5%d0%bb%d1%8f-%d0%b8%d0%bd%d1%82%d0%b5%d0%bd%d1%81%d0%b8%d0%b2-%d0%bf%d1%80%d0%b0%d0%ba%d1%82%d0%b8%d0%ba%d1%83%d0%bc/
LOCATION:Москва\, Плотников пер\, 12 (м. Смоленская\, 5 мин пешком).  Здание гостиницы “Арбат”\, Kristina Art Gallery.
END:VEVENT
END:VCALENDAR