BEGIN:VCALENDAR
VERSION:2.0
PRODID:-//Международный центр гуманной  педагогики - ECPv4.8.2//NONSGML v1.0//EN
CALSCALE:GREGORIAN
METHOD:PUBLISH
X-WR-CALNAME:Международный центр гуманной  педагогики
X-ORIGINAL-URL:http://ichp.org.ru
X-WR-CALDESC:Events for Международный центр гуманной  педагогики
BEGIN:VEVENT
DTSTART;TZID=UTC+3:20190424T180000
DTEND;TZID=UTC+3:20190424T210000
DTSTAMP:20260422T001916
CREATED:20190317T202401Z
LAST-MODIFIED:20190317T202714Z
UID:2186-1556128800-1556139600@ichp.org.ru
SUMMARY:Авторский курс Елены Шуванниковой "Культура речи педагога" (24 апреля\, Москва)
DESCRIPTION:
URL:http://ichp.org.ru/event/24-%d0%b0%d0%bf%d1%80%d0%b5%d0%bb%d1%8f-%d0%b0%d0%b2%d1%82%d0%be%d1%80%d1%81%d0%ba%d0%b8%d0%b9-%d0%ba%d1%83%d1%80%d1%81-%d0%b5%d0%bb%d0%b5%d0%bd%d1%8b-%d1%88%d1%83%d0%b2%d0%b0%d0%bd%d0%bd%d0%b8%d0%ba/
END:VEVENT
END:VCALENDAR