BEGIN:VCALENDAR
VERSION:2.0
PRODID:-//Международный центр гуманной  педагогики - ECPv4.8.2//NONSGML v1.0//EN
CALSCALE:GREGORIAN
METHOD:PUBLISH
X-WR-CALNAME:Международный центр гуманной  педагогики
X-ORIGINAL-URL:http://ichp.org.ru
X-WR-CALDESC:Events for Международный центр гуманной  педагогики
BEGIN:VEVENT
DTSTART;TZID=UTC+3:20190328T130000
DTEND;TZID=UTC+3:20190328T190000
DTSTAMP:20260422T072720
CREATED:20190317T200549Z
LAST-MODIFIED:20190317T202605Z
UID:2174-1553778000-1553799600@ichp.org.ru
SUMMARY:28.03 13:00 и 19:00 - Образовательная программа Марины Галиевой "Судьба женщины"
DESCRIPTION:Академия педагогического искусства и социализации Шалвы Амонашвили\nИнститут счастливых женщин \nОбразовательная программа Марины Галиевой\n“Судьба женщины” \nКонтакты: +79055585735\, lorika_net@mail.ru \nПодробнее \n
URL:http://ichp.org.ru/event/28-03-1300-%d0%b8-1900-%d0%be%d0%b1%d1%80%d0%b0%d0%b7%d0%be%d0%b2%d0%b0%d1%82%d0%b5%d0%bb%d1%8c%d0%bd%d0%b0%d1%8f-%d0%bf%d1%80%d0%be%d0%b3%d1%80%d0%b0%d0%bc%d0%bc%d0%b0-%d0%bc%d0%b0%d1%80%d0%b8/
LOCATION:Москва\, Плотников пер\, 12 (м. Смоленская\, 5 мин пешком).  Здание гостиницы “Арбат”\, Kristina Art Gallery.
END:VEVENT
END:VCALENDAR