BEGIN:VCALENDAR
VERSION:2.0
PRODID:-//Международный центр гуманной  педагогики - ECPv4.8.2//NONSGML v1.0//EN
CALSCALE:GREGORIAN
METHOD:PUBLISH
X-WR-CALNAME:Международный центр гуманной  педагогики
X-ORIGINAL-URL:http://ichp.org.ru
X-WR-CALDESC:Events for Международный центр гуманной  педагогики
BEGIN:VEVENT
DTSTART;VALUE=DATE:20200320
DTEND;VALUE=DATE:20200323
DTSTAMP:20260423T105432
CREATED:20191206T172816Z
LAST-MODIFIED:20191206T181600Z
UID:2670-1584662400-1584921599@ichp.org.ru
SUMMARY:XIX Международные Чтения по гуманной педагогике
DESCRIPTION: \nРеспублика Казахстан\, г. Алматы \nМинистерства образования и науки Республики Казахстан \nМеждународная ассоциация общественных объединений «Международный центр гуманной педагогики»  \nГАОУ ВО «Московский городской педагогический университет» \nФонд развития общественно значимых инициатив (Казахстан) \nУважаемые учителя\, родители\, воспитатели\, психологи\, руководители образовательных учреждений и представители общественных организаций! \nМеждународный центр Гуманной педагогики при сотрудничестве с Фондом развития общественно значимых инициатив и информационной поддержке Министерства образования и науки Республики Казахстан начал работу по подготовке к XIX Международным Чтениям по гуманной педагогике на тему «Воля есть драгоценнейшая победа»\, которые пройдут 20\,21\,22 марта 2020 года в г. Алматы\, Республика Казахстан\, на базе Казахского Национального университета им. Аль-Фараби.  \n Главная миссия Чтений – осмысление важных вопросов современности\, связанных с воспитанием\, образованием\, с ролью учителя и родителя в современном мире.  \nИдейный вдохновитель и организатор ежегодных Международных Чтений по гуманной педагогике\, профессор\, академик РАО\, почетный президент Международного Центра Гуманной Педагогики Шалва Александрович Амонашвили обращается ко всем\, кому небезразлична судьба человечества: «Мы предлагаем обсудить проблему\, волнующую сегодня каждого: как в мире развитых технологий помочь человеку не стать пустым и бездушным придатком машины\, осмыслить и развить в себе волю\, делающую человека человеком. Мы ждем встречи с вами\, сильными духом\, с живыми сердцами\, с чистыми мыслями\, способными преображать пространство. Мы хотим\, чтобы на Чтениях смогли найти себя те\, кто ищет ответы на судьбоносные вопросы\, и философские и практические. Размышления будут вестись в разных формах. На Чтениях пройдут мастерские\, лаборатории\, встречи с мудрецами\, диалоги поколений\, состоится фейерверк педагогических идей. Эта работа является непростой в условиях агрессивной информационной среды\, внушающей человеку ложные ценности. Тем целенаправленней должна стать работа по очищению мыслей и осознанию творческой свободы в формировании образовательного пространства…» \n В рамках работы Чтений будут затронуты многие философские\, психологические\, педагогические вопросы\, которые ждут соразмышления и совместного поиска ответов на них. На Чтениях будут обсуждены идеи\, заложенные в “Школе жизни” Шалвы Амонашвили\, и будет дана уникальная возможность проникнуть в суть предлагаемых в ней уроков и осознать\, что Воля – это сознательное побуждение к деланию доброго и воздержание от злого\, а Дисциплина духа – это сознательный выбор добра и умение его распознавать.  \nМы вместе обсудим следующие вопросы: \n\n\nВоля под господством духа и сердца – как это? Умение держать духовную вертикаль. \n\n\nСоблазны современности и воля. \n\n\nКак пройти дистанцию между «я хотел бы» и «я сделаю». \n\n\nВоля и мысль. Возможности мысли. Сознательное обуздание в себе отрицательных и порождение положительных мыслеформ. Как победить темную волю в самом себе. \n\n\nВоля и ее направленность: на себя или на других. Опасность смены вектора. Двойственная природа человека. Светлая воля. Темная воля. Как распознать. \n\n\nСвобода воли и своеволие. В чем разница? Что питает Светлую волю в нас? \n\n\nУрок – пространство проявления воли учителя. Вести или манипулировать\, повелевать\, подавлять. Любовь и водительство. \n\n\nСовместная работа по осмыслению предложенной темы должна обогатить каждого из нас и помочь разобраться в сложных вопросах работы над собой. \n\n\nДетальная Программа Чтений будет опубликована в феврале 2020 года на официальном сайте Международного центра гуманной педагогики http://ichp.org.ru.  \n\n\nПросим вас принять участие в ее разработке и прислать Ваши предложения\, мысли\, пожелания о содержании программы. Будем очень рады Вашим советам по поводу тем лабораторий\, мастер-классов\, выступлений т. п. Вы можете приехать и со своими студентами и старшеклассниками\, которые ориентированы на педагогические профессии.  \n\n\nПросим Вас заранее позаботиться по вопросам своевременного оформления туристической визы\, заблаговременно забронировать и приобрести авиа или жд-билеты.  \n\n\nУзнать адреса и актуальную стоимость проживания в близлежащих к месту проведения гостиниц Вы можете\, отправив запрос на электронный адрес: d.nataly2008@mail.ru.  \n\n\nЕсли Вам необходим вызов на Чтения\, сообщите\, пожалуйста\, заранее\, на электронный адрес: kz.almaty2020@mail.ru. \n\n\nДля участия в Чтениях нужно заполнить анкету и выслать до 25 января 2020 года по адресу: 050020\, Республика Казахстан\, г. Алматы\, пр. Достык\, 341\, Организационный комитет XIX Международных Чтений по гуманной педагогике\, или на электронный адрес: kz.almaty2020@mail.ru  \n\n\n\nРегистрация участников Чтений  \n19 марта 2020 г. с 10.00 до 18.00\, 20 марта 2020 г. с 9.00 до 10.00 \nв главном холле Дворца студентов  \nКазахского Национального университета им. Аль-Фараби по адресу: \nг. Алматы\, пр. аль-Фараби\, 71  \n(вход с улицы Тимирязева\, остановка КазНУ\,  \nориентир – река Весновка\, Ботанический сад) \n
URL:http://ichp.org.ru/event/xix-%d0%bc%d0%b5%d0%b6%d0%b4%d1%83%d0%bd%d0%b0%d1%80%d0%be%d0%b4%d0%bd%d1%8b%d0%b5-%d1%87%d1%82%d0%b5%d0%bd%d0%b8%d1%8f-%d0%bf%d0%be-%d0%b3%d1%83%d0%bc%d0%b0%d0%bd%d0%bd%d0%be%d0%b9-%d0%bf%d0%b5%d0%b4/
LOCATION:Дворец студентов  Казахского Национального университета им. Аль-Фараби\, пр. аль-Фараби\, 71\, г. Алматы\, Казахстан
ORGANIZER;CN="%D0%9C%D0%B5%D0%B6%D0%B4%D1%83%D0%BD%D0%B0%D1%80%D0%BE%D0%B4%D0%BD%D1%8B%D0%B9%20%D1%86%D0%B5%D0%BD%D1%82%D1%80%20%D0%93%D1%83%D0%BC%D0%B0%D0%BD%D0%BD%D0%BE%D0%B9%20%D0%BF%D0%B5%D0%B4%D0%B0%D0%B3%D0%BE%D0%B3%D0%B8%D0%BA%D0%B8":MAILTO:kz.almaty2020@mail.ru
END:VEVENT
END:VCALENDAR